BEGIN:VCALENDAR
VERSION:2.0
PRODID:Events Booking
BEGIN:VEVENT
UID:69ecf918d04a0
SUMMARY:ZLC - Distanzfahrt für Daheimgebliebene (Act. 5)
DESCRIPTION:The fifth appointment with the series \"Distance Races Cup of L
 ake Zurich\" is a \"friendly\" race that takes place no matter the meteoro
 logical conditions\, so let's prepare sunscreen or an umbrella : D.&nbsp\;
 
 Of course\, the aim is to win!
 ZISC registered 1 mOcean (Skippered by
  Marco) and 1 J70 (Skippered by Dario) to join the race\, we will meet fir
 st in Horgen (12.30-13.00)\, and cross to&nbsp\;Herrliberg for the race.&n
 bsp\;
 The race starts at 14.00 and finishes at 18.30\, after which there
  will be the option to have a refreshment and then a summer \"party\" orga
 nized by the&nbsp\;Segel‐&nbsp\;und Yachtclub Herrliberg\, in their club
 house.&nbsp\;
 Costs: approximately 60CHF each\, which includes registrat
 ion to the race and rental of the boats.
 Interested? Write me for more i
 nformation!
 Fair Winds!
 Marco&nbsp\;
LOCATION:Seestrasse\, Herrliberg\, 8704 Zurich\, Switzerland
DTSTART:20240713T130000Z
DTEND:20240713T190000Z
DTSTAMP:20240624T171611Z
ORGANIZER;CN=ZISC Events:MAILTO:info@zisc.club
GEO:47.289381;8.603777
X-APPLE-STRUCTURED-LOCATION;VALUE=URI;X-ADDRESS=Seestrasse\, Herrliberg\, 8
 704 Zurich\, Switzerland;X-APPLE-RADIUS=72;X-TITLE=Klubhaus Seegelclub Her
 rliberg:47.289381;8.603777
END:VEVENT
END:VCALENDAR