BEGIN:VCALENDAR
VERSION:2.0
PRODID:Events Booking
BEGIN:VEVENT
UID:69ed204d08c2e
SUMMARY:TGIF Sailing  
DESCRIPTION:Casual sailing to celebrate the weekend. Meeting at the little 
 kiosk in front of Enge Marina.&nbsp\;note: the foto from an actual summer 
 is from the archives&nbsp\;
 The cost of the boat rental is 25 chf per pe
 rson.&nbsp\;
LOCATION:Zurich\, Zurich\, Switzerland
DTSTART:20240705T173000Z
DTEND:20240705T203000Z
DTSTAMP:20240702T051739Z
ORGANIZER;CN=ZISC Events:MAILTO:info@zisc.club
GEO:47.359643;8.534907
X-APPLE-STRUCTURED-LOCATION;VALUE=URI;X-ADDRESS=Zurich\, Zurich\, Switzerla
 nd;X-APPLE-RADIUS=72;X-TITLE=Zürich - Mythenquai:47.359643;8.534907
END:VEVENT
END:VCALENDAR