BEGIN:VCALENDAR
VERSION:2.0
PRODID:Events Booking
BEGIN:VEVENT
UID:69ed3690c9e6a
SUMMARY:Olympic sailing - Marseille 
DESCRIPTION:I have some tickets available for the Olympic Games in Marseill
 e where the sailing events will take place.&nbsp\;The regattas will take p
 lace in front of the Marina de Marseille on Sunday afternoon but we can ca
 tch up during the weekend in the city and join the festive environment.&nb
 sp\;The tickets are 24 chf each. I will sell them back at some point\, so 
 don't wait too long!
DTSTART:20240804T120000Z
DTEND:20240804T180000Z
DTSTAMP:20240703T093435Z
ORGANIZER;CN=ZISC Events:MAILTO:info@zisc.club
END:VEVENT
END:VCALENDAR