BEGIN:VCALENDAR
VERSION:2.0
PRODID:Events Booking
BEGIN:VEVENT
UID:69ed3531ab129
SUMMARY:2024 FUND-RAISING EVENT
DESCRIPTION:2024 FUND-RAISING EVENT supporting:&nbsp\;
 Foundation Just fo
 r Smiles&nbsp\;
 (Saturday 7 September - Lake Zürich)&nbsp\;
 About the
  Foundation: 
 Just for Smiles Foundation's aim is to develop a network o
 f outdoor activities and tailored to each season\, to provide adapted enjo
 yment for people with disabilities.
 Additional info can be found at www.
 justforsmiles.ch
 &nbsp\;
 &nbsp\;
LOCATION:Seestrasse 33\, Kilchberg\, 8802 Zurich\, Switzerland
DTSTART:20240907T113000Z
DTEND:20240907T160000Z
DTSTAMP:20240708T063332Z
ORGANIZER;CN=ZISC Events:MAILTO:info@zisc.club
GEO:47.322484;8.551198
X-APPLE-STRUCTURED-LOCATION;VALUE=URI;X-ADDRESS=Seestrasse 33\, Kilchberg\,
  8802 Zurich\, Switzerland;X-APPLE-RADIUS=72;X-TITLE=Mönchhof am See:47.3
 22484;8.551198
END:VEVENT
END:VCALENDAR