BEGIN:VCALENDAR
VERSION:2.0
PRODID:Events Booking
BEGIN:VEVENT
UID:69eced0471475
SUMMARY:TGIF Sailing
DESCRIPTION:Hopefully a nice smooth sailing session to start the weekend.&n
 bsp\;
LOCATION:Mythenquai\, Zurich\, 8002 Zurich\, Switzerland
DTSTART:20240712T173000Z
DTEND:20240712T203000Z
DTSTAMP:20240709T062020Z
ORGANIZER;CN=ZISC Events:MAILTO:info@zisc.club
GEO:47.361743;8.534785
X-APPLE-STRUCTURED-LOCATION;VALUE=URI;X-ADDRESS=Mythenquai\, Zurich\, 8002 
 Zurich\, Switzerland;X-APPLE-RADIUS=72;X-TITLE=Mythenquai - Coffee kiosk:4
 7.361743;8.534785
END:VEVENT
END:VCALENDAR