BEGIN:VCALENDAR
VERSION:2.0
PRODID:Events Booking
BEGIN:VEVENT
UID:69ed0187b5f0a
SUMMARY:Sunday sailing
DESCRIPTION:Weather looks beautiful - let's sail!
 For this event I have b
 ooked the the Sailbox Wollishofen boat (B).&nbsp\;
 Due to a rescheduling
  of the family sailing\, I will skipper this event together with my 6-year
 -old son who also likes to sail. All those who are okay with that are very
  welcome to join :)
 Depending on the wind conditions we'll try to have a
 s much fun as possible with sailing and maybe swimming. Bring snacks and d
 rinks on board if you like.
 Costs will be split among participants.&nbsp
 \;Fair cancellation terms apply: if you cancel within 48 hours before depa
 rture without replacement\, your share of the costs is due.
 &nbsp\;
 A'
 Hoi\,
 Lisa &amp\; Leo
LOCATION:Forellenweg\, Zurich\, 8038 Zurich\, Switzerland
DTSTART:20240714T140000Z
DTEND:20240714T170000Z
DTSTAMP:20240710T194527Z
ORGANIZER;CN=ZISC Events:MAILTO:info@zisc.club
GEO:47.338496;8.540428
X-APPLE-STRUCTURED-LOCATION;VALUE=URI;X-ADDRESS=Forellenweg\, Zurich\, 8038
  Zurich\, Switzerland;X-APPLE-RADIUS=72;X-TITLE=Sailbox Wollishofen B:47.3
 38496;8.540428
END:VEVENT
END:VCALENDAR