BEGIN:VCALENDAR
VERSION:2.0
PRODID:Events Booking
BEGIN:VEVENT
UID:69ed1353a4f79
SUMMARY:TGIF Sailing 
DESCRIPTION:Usual meeting point at the kiosk in front of the marina in Enge
 . Since hoping for wind is a luxury\, let s just hope for a dry evening.&n
 bsp\;
LOCATION:Hafen Beiz\, Hafen Enge\, Zürich
DTSTART:20240719T173000Z
DTEND:20240719T203000Z
DTSTAMP:20240716T065529Z
ORGANIZER;CN=ZISC Events:MAILTO:info@zisc.club
GEO:47.361215;8.53569
X-APPLE-STRUCTURED-LOCATION;VALUE=URI;X-ADDRESS=Hafen Beiz\, Hafen Enge\, Z
 ürich;X-APPLE-RADIUS=72;X-TITLE=Hafen Beiz\, Enge:47.361215;8.53569
END:VEVENT
END:VCALENDAR