BEGIN:VCALENDAR
VERSION:2.0
PRODID:Events Booking
BEGIN:VEVENT
UID:69ed139bb9151
SUMMARY:Sunday Sunshine Sail
DESCRIPTION:Sunday Sunshine Sail on Zürisee
LOCATION:Mythenquai\, Enge\, Kreis 2\, Zurich\, District Zurich\, Zurich\, 
 8002\, Switzerland
DTSTART:20240811T130000Z
DTEND:20240811T150000Z
DTSTAMP:20240807T094705Z
ORGANIZER;CN=ZISC Events:MAILTO:info@zisc.club
GEO:47.357839;8.536114
X-APPLE-STRUCTURED-LOCATION;VALUE=URI;X-ADDRESS=Mythenquai\, Enge\, Kreis 2
 \, Zurich\, District Zurich\, Zurich\, 8002\, Switzerland;X-APPLE-RADIUS=7
 2;X-TITLE=Argos J70 (Pontoon 1\, Enge):47.357839;8.536114
END:VEVENT
END:VCALENDAR