BEGIN:VCALENDAR
VERSION:2.0
PRODID:Events Booking
BEGIN:VEVENT
UID:69ed36e87b154
SUMMARY:TGIF wishful sailing
DESCRIPTION:Casual sailing... in case wind does not show up we ll just have
  a casual swim.&nbsp\;
 Meeting point at the kiosk in front of the marina
  in Enge&nbsp\;
LOCATION:Mythenquai\, Zurich\, 8002 Zurich\, Switzerland
DTSTART:20240823T173000Z
DTEND:20240823T203000Z
DTSTAMP:20240819T153819Z
ORGANIZER;CN=ZISC Events:MAILTO:info@zisc.club
GEO:47.361743;8.534785
X-APPLE-STRUCTURED-LOCATION;VALUE=URI;X-ADDRESS=Mythenquai\, Zurich\, 8002 
 Zurich\, Switzerland;X-APPLE-RADIUS=72;X-TITLE=Mythenquai - Coffee kiosk:4
 7.361743;8.534785
END:VEVENT
END:VCALENDAR