BEGIN:VCALENDAR
VERSION:2.0
PRODID:Events Booking
BEGIN:VEVENT
UID:69ed13b599fd4
SUMMARY:Friday Night is J80 night
DESCRIPTION:Chilled Friday evening sail. Hopefully involving some wind and 
 the gennaker.
 &nbsp\;
LOCATION:Hafen Beiz\, Hafen Enge\, Zürich
DTSTART:20240823T173000Z
DTEND:20240823T200000Z
DTSTAMP:20240822T154221Z
ORGANIZER;CN=ZISC Events:MAILTO:info@zisc.club
GEO:47.361215;8.53569
X-APPLE-STRUCTURED-LOCATION;VALUE=URI;X-ADDRESS=Hafen Beiz\, Hafen Enge\, Z
 ürich;X-APPLE-RADIUS=72;X-TITLE=Hafen Beiz\, Enge:47.361215;8.53569
END:VEVENT
END:VCALENDAR