BEGIN:VCALENDAR
VERSION:2.0
PRODID:Events Booking
BEGIN:VEVENT
UID:69ed1353b489a
SUMMARY:TGIF sailing 
DESCRIPTION:We Should find just enough wind to get the boat moving this Fri
 day. But warm and sunny weather which means that\, in the worst case\, we 
 just go for a swim. We meet at the usual kiosk in front of the marina in E
 nge. Cheers
LOCATION:Mythenquai\, Zurich\, 8002 Zurich\, Switzerland
DTSTART:20240830T173000Z
DTEND:20240830T203000Z
DTSTAMP:20240828T080339Z
ORGANIZER;CN=ZISC Events:MAILTO:info@zisc.club
GEO:47.361743;8.534785
X-APPLE-STRUCTURED-LOCATION;VALUE=URI;X-ADDRESS=Mythenquai\, Zurich\, 8002 
 Zurich\, Switzerland;X-APPLE-RADIUS=72;X-TITLE=Mythenquai - Coffee kiosk:4
 7.361743;8.534785
END:VEVENT
END:VCALENDAR