BEGIN:VCALENDAR
VERSION:2.0
PRODID:Events Booking
BEGIN:VEVENT
UID:69ed13bc46a19
SUMMARY:Family sailing (with kids)
DESCRIPTION:Mihai and I are going family sailing with the kid! We have a sp
 ot free for one adult and 1 kid.
 &nbsp\;
 A spot = kid + adult\, theref
 ore we'll try to have 3 kids on the boat.
 &nbsp\;
 Because the life-ves
 ts on the boat are too big for the kids is recommended to bring your own. 
 Bring your swimwear too!
 &nbsp\;
 Depending on the weather and wind con
 ditions we'll try to have as much fun as possible with sailing\, swimming 
 and (maybe) try to use the harness for an increased dose of excitement.
 
 &nbsp\;
 Costs will be split among participants.
 &nbsp\;
LOCATION:Forellenweg\, Zurich\, 8038 Zurich\, Switzerland
DTSTART:20240908T140000Z
DTEND:20240908T170000Z
DTSTAMP:20240902T154506Z
ORGANIZER;CN=ZISC Events:MAILTO:info@zisc.club
GEO:47.338496;8.540428
X-APPLE-STRUCTURED-LOCATION;VALUE=URI;X-ADDRESS=Forellenweg\, Zurich\, 8038
  Zurich\, Switzerland;X-APPLE-RADIUS=72;X-TITLE=Wollishofen A:47.338496;8.
 540428
END:VEVENT
END:VCALENDAR