BEGIN:VCALENDAR
VERSION:2.0
PRODID:Events Booking
BEGIN:VEVENT
UID:69ecff225d760
SUMMARY:Evening Sail
DESCRIPTION:Classic evening sail on lake Zurich.&nbsp\;
DTSTART:20240918T170000Z
DTEND:20240918T190000Z
DTSTAMP:20240902T203325Z
ORGANIZER;CN=ZISC Events:MAILTO:info@zisc.club
END:VEVENT
END:VCALENDAR