BEGIN:VCALENDAR
VERSION:2.0
PRODID:Events Booking
BEGIN:VEVENT
UID:69ecfe6470ed2
SUMMARY:TFIG sailing 
DESCRIPTION:
LOCATION:Mythenquai\, Zurich\, 8002 Zurich\, Switzerland
DTSTART:20240913T170000Z
DTEND:20240913T000000Z
DTSTAMP:20240910T204848Z
ORGANIZER;CN=ZISC Events:MAILTO:info@zisc.club
GEO:47.361743;8.534785
X-APPLE-STRUCTURED-LOCATION;VALUE=URI;X-ADDRESS=Mythenquai\, Zurich\, 8002 
 Zurich\, Switzerland;X-APPLE-RADIUS=72;X-TITLE=Mythenquai - Coffee kiosk:4
 7.361743;8.534785
END:VEVENT
END:VCALENDAR