BEGIN:VCALENDAR
VERSION:2.0
PRODID:Events Booking
BEGIN:VEVENT
UID:69ed2710b4737
SUMMARY:Sailing in Horgen (Lake Zürich)
DESCRIPTION:Sailing in Horgen - Lake Zürich&nbsp\;
LOCATION:Horgen
DTSTART:20241005T120000Z
DTEND:20241005T150000Z
DTSTAMP:20241002T162121Z
ORGANIZER;CN=ZISC Events:MAILTO:info@zisc.club
GEO:47.254598;8.618533
X-APPLE-STRUCTURED-LOCATION;VALUE=URI;X-ADDRESS=Horgen;X-APPLE-RADIUS=72;X-
 TITLE=Horgen:47.254598;8.618533
END:VEVENT
END:VCALENDAR