BEGIN:VCALENDAR
VERSION:2.0
PRODID:Events Booking
BEGIN:VEVENT
UID:69ed153d15fe0
SUMMARY:Sailing in Lausanne (Lake Leman) 
DESCRIPTION:Lets go sailing in Lake Leman and enjoy its breath taking colou
 rs! &nbsp\;
 &nbsp\;
 Location:&nbsp\;Port Lausanne Ouchy&nbsp\;
 Steg 
 K - Place 99&nbsp\;
LOCATION:Port Lausanne Ouchy
DTSTART:20241019T110000Z
DTEND:20241019T170000Z
DTSTAMP:20241003T151643Z
ORGANIZER;CN=ZISC Events:MAILTO:info@zisc.club
GEO:46.50774;6.622947
X-APPLE-STRUCTURED-LOCATION;VALUE=URI;X-ADDRESS=Port Lausanne Ouchy;X-APPLE
 -RADIUS=72;X-TITLE=Port Lausanne Ouchy :46.50774;6.622947
END:VEVENT
END:VCALENDAR