BEGIN:VCALENDAR
VERSION:2.0
PRODID:Events Booking
BEGIN:VEVENT
UID:69ecfe6470b0b
SUMMARY:Capraia Island Weekend 
DESCRIPTION:Sailing to Capraia Island&nbsp\;
 A friendly regatta organized
  by the marina Cala dei Medici in Rosignano in Tuscany. The start is in fr
 ont of the marina and head towards the stunning Capraia island some 30 nm 
 away. After dinner in a restaurant we ll spend the night and cast off on S
 unday. Our boat is actually in Punta Ala where we plan to be back by 16:00
  on Sunday. We have secured the most beautiful 46 feet Dufour with owner l
 ayout for 1.225 kEUR. 5 people would be ideal!&nbsp\;
 We can board the b
 oat on Friday evening… I have a “concept of a plan” to get there and
  back without losing much time from work. Get in touch with me quick!!&nbs
 p\;Salty Regards\, Dario&nbsp\;
 m: 0792600644
DTSTART:20241011T180000Z
DTEND:20241013T210000Z
DTSTAMP:20241005T085127Z
ORGANIZER;CN=ZISC Events:MAILTO:info@zisc.club
END:VEVENT
END:VCALENDAR