BEGIN:VCALENDAR
VERSION:2.0
PRODID:Events Booking
BEGIN:VEVENT
UID:69ed48ce8ead4
SUMMARY:(Not) the end of the season party 2024
DESCRIPTION:ZISC is having a party! Friends\, laughter\, dancing\, sailing 
 chat\, celebrating a fantastic season.&nbsp\;
 Dress up! This years motto
  is: Deep sea creatures&nbsp\;
 DJ Andras on the decks
 
 Full members 
 pay CHF 10
 Passive members pay CHF 20
 
 You arent a member yet? Becom
 e a member now to benefit from the discounted party tickets and many other
  amazing benefits. To become a member\, please approach Marielle via our W
 hatsapp Chat.&nbsp\;
LOCATION:Bachstrasse\, Zurich\, 8038 Zurich\, Switzerland
DTSTART:20241107T190000Z
DTEND:20241107T230000Z
DTSTAMP:20241009T072718Z
ORGANIZER;CN=ZISC Events:MAILTO:info@zisc.club
GEO:47.344733;8.535623
X-APPLE-STRUCTURED-LOCATION;VALUE=URI;X-ADDRESS=Bachstrasse\, Zurich\, 8038
  Zurich\, Switzerland;X-APPLE-RADIUS=72;X-TITLE=Stäfa Boat next to GZ Wol
 lishofen:47.344733;8.535623
END:VEVENT
END:VCALENDAR