BEGIN:VCALENDAR
VERSION:2.0
PRODID:Events Booking
BEGIN:VEVENT
UID:69ed46fe67555
SUMMARY:Swiss Boat Show
DESCRIPTION:Reserve your free ticket on&nbsp\;https://www.boat-show.ch&nbsp
 \;and let s see what s new!&nbsp\;
LOCATION:Route François-Peyrot\, Le Grand-Saconnex\, 1218 Geneva\, Switzer
 land
DTSTART:20241110T110000Z
DTEND:20241110T150000Z
DTSTAMP:20241020T135920Z
ORGANIZER;CN=ZISC Events:MAILTO:info@zisc.club
GEO:46.235292;6.118014
X-APPLE-STRUCTURED-LOCATION;VALUE=URI;X-ADDRESS=Route François-Peyrot\, Le
  Grand-Saconnex\, 1218 Geneva\, Switzerland;X-APPLE-RADIUS=72;X-TITLE=Gene
 va :46.235292;6.118014
END:VEVENT
END:VCALENDAR