BEGIN:VCALENDAR
VERSION:2.0
PRODID:Events Booking
BEGIN:VEVENT
UID:69ed474ad5894
SUMMARY:Charting our Course - 2025 ZISC planning session
DESCRIPTION:Planning evening for ZISC 2025. Register here\, numbers limited
  so you need to be registered to join. See full description in the 'Detail
 s' link.
 &nbsp\;
LOCATION:Switzerland
DTSTART:20241114T190000Z
DTEND:20241114T210000Z
DTSTAMP:20241022T095013Z
ORGANIZER;CN=ZISC Events:MAILTO:info@zisc.club
GEO:47.279096;8.597868
X-APPLE-STRUCTURED-LOCATION;VALUE=URI;X-ADDRESS=Switzerland;X-APPLE-RADIUS=
 72;X-TITLE=Lake Zurich:47.279096;8.597868
END:VEVENT
END:VCALENDAR