BEGIN:VCALENDAR
VERSION:2.0
PRODID:Events Booking
BEGIN:VEVENT
UID:69ed13b620414
SUMMARY:Neuchâtel Lake Sailing
DESCRIPTION:
DTSTART:20241102T120000Z
DTEND:20241102T170000Z
DTSTAMP:20241029T172437Z
ORGANIZER;CN=ZISC Events:MAILTO:info@zisc.club
END:VEVENT
END:VCALENDAR