BEGIN:VCALENDAR
VERSION:2.0
PRODID:Events Booking
BEGIN:VEVENT
UID:69ed26b75a6c7
SUMMARY:Neuchâtel Lake Sailing
DESCRIPTION:
DTSTART:20241110T120000Z
DTEND:20241110T160000Z
DTSTAMP:20241107T105019Z
ORGANIZER;CN=ZISC Events:MAILTO:info@zisc.club
END:VEVENT
END:VCALENDAR