BEGIN:VCALENDAR
VERSION:2.0
PRODID:Events Booking
BEGIN:VEVENT
UID:69ed01caac9ed
SUMMARY:Full Moon English Channel Crossing
DESCRIPTION:English Channel Crossing weekend.&nbsp\;
 A classic passage\, 
 under the (almost) Full Moon.
LOCATION:Satchel Lane\, Hamble\, SO31 4QD England\, United Kingdom
DTSTART:20250501T080000Z
DTEND:20250504T190000Z
DTSTAMP:20241202T231917Z
ORGANIZER;CN=ZISC Events:MAILTO:info@zisc.club
GEO:50.861338;-1.313641
X-APPLE-STRUCTURED-LOCATION;VALUE=URI;X-ADDRESS=Satchel Lane\, Hamble\, SO3
 1 4QD England\, United Kingdom;X-APPLE-RADIUS=72;X-TITLE=Port Hamble Marin
 a:50.861338;-1.313641
END:VEVENT
END:VCALENDAR