BEGIN:VCALENDAR
VERSION:2.0
PRODID:Events Booking
BEGIN:VEVENT
UID:69ecff6016092
SUMMARY:Sailing Scotland (July 5th to July 19th)
DESCRIPTION:Were looking for a motivated crew member to join us on a 2 week
  sailing excursion in Scottland. We pla to depart from Oban and sail the e
 ntirety of the 2 weeks
 &nbsp\;
 Dates: July 5 to the 19th
 See below f
 or a more detailed description.
DTSTART:20250705T000000Z
DTEND:20250719T000000Z
DTSTAMP:20250122T202711Z
ORGANIZER;CN=ZISC Events:MAILTO:info@zisc.club
END:VEVENT
END:VCALENDAR