BEGIN:VCALENDAR
VERSION:2.0
PRODID:Events Booking
BEGIN:VEVENT
UID:69ed1585102bf
SUMMARY:2025 Season Kick-Off: ZISC on Lake Zurich
DESCRIPTION:Let's start sailing in 2025 with a bang!
LOCATION:47.340088\, 8.538859
DTSTART:20250329T120000Z
DTEND:20250329T170000Z
DTSTAMP:20250125T175759Z
ORGANIZER;CN=ZISC Events:MAILTO:info@zisc.club
GEO:47.340088;8.538859
X-APPLE-STRUCTURED-LOCATION;VALUE=URI;X-ADDRESS=47.340088\, 8.538859;X-APPL
 E-RADIUS=72;X-TITLE=Hafen Wollishofen:47.340088;8.538859
END:VEVENT
END:VCALENDAR