BEGIN:VCALENDAR
VERSION:2.0
PRODID:Events Booking
BEGIN:VEVENT
UID:69ed153d2228c
SUMMARY:Sailing in Lake Zürich
DESCRIPTION:Let's sail in Zurich\, &nbsp\;sun and wind expected! &nbsp\;:)&
 nbsp\;
 Boat J70 (Argos)\; route to be planned accordingly to weather and
  wind.&nbsp\;
 Cost sharing: chf 25 / person&nbsp\;
 Safety first: pleas
 e bring your own life vest you might have a compact one. (Standard ones av
 ailable on the boat).
 &nbsp\;
 &nbsp\;
 &nbsp\;
 &nbsp\;
 &nbsp\;
 
 &nbsp\;
LOCATION:Zurich\, Zurich\, Switzerland
DTSTART:20250215T120000Z
DTEND:20250215T143000Z
DTSTAMP:20250213T111903Z
ORGANIZER;CN=ZISC Events:MAILTO:info@zisc.club
GEO:47.359643;8.534907
X-APPLE-STRUCTURED-LOCATION;VALUE=URI;X-ADDRESS=Zurich\, Zurich\, Switzerla
 nd;X-APPLE-RADIUS=72;X-TITLE=Zürich - Mythenquai:47.359643;8.534907
END:VEVENT
END:VCALENDAR