BEGIN:VCALENDAR
VERSION:2.0
PRODID:Events Booking
BEGIN:VEVENT
UID:69ed48e386165
SUMMARY:Navigation Theory (2)  
DESCRIPTION:The second of two. Back by popular demand\, it's the same as th
 e first evening held on 10 March.
 Navigation theory session. More practi
 ce than theory\, the actual passage plan for our May Cross Channel trip. 
 
 Ideal for anyone thinking about doing RYA Coastal / Offshore Skipper (th
 is is often the passage RYA asks you to prepare). Equally useful for other
  skipper courses.
 Or for anyone generally interested in coastal / offsho
 re navigation.
 Read the detailed description so you know what its about!
LOCATION:Hegifret Kaffeefenster\, Hegibachplatz\, Hirslanden\, Kreis 7\, Zu
 rich\, District Zurich\, Zurich\, 8032\, Switzerland
DTSTART:20250317T190500Z
DTEND:20250317T210000Z
DTSTAMP:20250214T104327Z
ORGANIZER;CN=ZISC Events:MAILTO:info@zisc.club
GEO:47.361778;8.561204
X-APPLE-STRUCTURED-LOCATION;VALUE=URI;X-ADDRESS=Hegifret Kaffeefenster\, He
 gibachplatz\, Hirslanden\, Kreis 7\, Zurich\, District Zurich\, Zurich\, 8
 032\, Switzerland;X-APPLE-RADIUS=72;X-TITLE=Hegifret:47.361778;8.561204
END:VEVENT
END:VCALENDAR