BEGIN:VCALENDAR
VERSION:2.0
PRODID:Events Booking
BEGIN:VEVENT
UID:69ed14eb4c440
SUMMARY:Neuchâtel Lake Sailing
DESCRIPTION:
LOCATION:Chemin de la Tène\, Marin-Epagnier\, La Tène\, Neuchâtel\, 2074
 \, Switzerland
DTSTART:20250302T120000Z
DTEND:20250302T160000Z
DTSTAMP:20250226T113607Z
ORGANIZER;CN=ZISC Events:MAILTO:info@zisc.club
GEO:47.004259;7.020822
X-APPLE-STRUCTURED-LOCATION;VALUE=URI;X-ADDRESS=Chemin de la Tène\, Marin-
 Epagnier\, La Tène\, Neuchâtel\, 2074\, Switzerland;X-APPLE-RADIUS=72;X-
 TITLE=La Tène\, Neuchâtel:47.004259;7.020822
END:VEVENT
END:VCALENDAR