BEGIN:VCALENDAR
VERSION:2.0
PRODID:Events Booking
BEGIN:VEVENT
UID:69ed37310cabb
SUMMARY:Sail to Cully (Leman) & Music Festival 
DESCRIPTION:Sail from LAUSANNE to CULLY. &nbsp\;
 Spend the night in Cully
 \, enjoying Cully Jazz Festival.&nbsp\;
LOCATION:Quai de la Nautique\, Lausanne\, 1007 Vaud\, Switzerland
DTSTART:20250405T110000Z
DTEND:20250406T140000Z
DTSTAMP:20250310T195042Z
ORGANIZER;CN=ZISC Events:MAILTO:info@zisc.club
GEO:46.507395;6.623722
X-APPLE-STRUCTURED-LOCATION;VALUE=URI;X-ADDRESS=Quai de la Nautique\, Lausa
 nne\, 1007 Vaud\, Switzerland;X-APPLE-RADIUS=72;X-TITLE=Lausanne Ouchy :46
 .507395;6.623722
END:VEVENT
END:VCALENDAR