BEGIN:VCALENDAR
VERSION:2.0
PRODID:Events Booking
BEGIN:VEVENT
UID:69ed14eb5a0a6
SUMMARY:Windy day in Horgen
DESCRIPTION:We can either meet in Horgen or you can join me for a drive. To
 morrow is sunny and windy... but maybe still cold. The contribution per pe
 rson is 35 chf . Cheers&nbsp\;
LOCATION:Horgen
DTSTART:20250315T110000Z
DTEND:20250315T140000Z
DTSTAMP:20250314T214725Z
ORGANIZER;CN=ZISC Events:MAILTO:info@zisc.club
GEO:47.254598;8.618533
X-APPLE-STRUCTURED-LOCATION;VALUE=URI;X-ADDRESS=Horgen;X-APPLE-RADIUS=72;X-
 TITLE=Horgen:47.254598;8.618533
END:VEVENT
END:VCALENDAR