BEGIN:VCALENDAR
VERSION:2.0
PRODID:Events Booking
BEGIN:VEVENT
UID:69ed36e2854b5
SUMMARY:Demystifying Sail and Power Handling
DESCRIPTION:Boat handling practice - under sail and power. Check the event 
 description for what's involved.
LOCATION:Satchel Lane\, Hamble\, SO31 4QD England\, United Kingdom
DTSTART:20250426T090000Z
DTEND:20250427T160000Z
DTSTAMP:20250401T104713Z
ORGANIZER;CN=ZISC Events:MAILTO:info@zisc.club
GEO:50.861338;-1.313641
X-APPLE-STRUCTURED-LOCATION;VALUE=URI;X-ADDRESS=Satchel Lane\, Hamble\, SO3
 1 4QD England\, United Kingdom;X-APPLE-RADIUS=72;X-TITLE=Port Hamble Marin
 a:50.861338;-1.313641
END:VEVENT
END:VCALENDAR