BEGIN:VCALENDAR
VERSION:2.0
PRODID:Events Booking
BEGIN:VEVENT
UID:69ed37119d070
SUMMARY:ZISC is Going to the Movies
DESCRIPTION:In partnership with the International Ocean Film Tour\, ZISC wi
 ll support a movie night in celebration of our shared passion for the worl
 d’s waterways at the annual festival featuring films about our beloved s
 eas.
 This is a popular event among club members so get your tickets quic
 kly before they sell out.&nbsp\;https://ch.oceanfilmtour.com/en/tickets/in
 ternational-ocean-film-tour-2025-volkshaus-2025-05-14-19-30
 Tickets boug
 ht in bulk for five people&nbsp\;or more receive a 5 CHF discount per tick
 et\, so instead of 29.50 CHF\, each entry will cost 24.50 CHF. Therefore\,
  we suggest gathering friends to buy at the bulk rate. Since this is a pub
 lic event\, attendees outside of ZISC are also welcomed.
LOCATION:Stauffacherstrasse 60\, 8004 Zürich
DTSTART:20250514T192000Z
DTEND:20250514T223000Z
DTSTAMP:20250401T125841Z
ORGANIZER;CN=ZISC Events:MAILTO:info@zisc.club
END:VEVENT
END:VCALENDAR