BEGIN:VCALENDAR
VERSION:2.0
PRODID:Events Booking
BEGIN:VEVENT
UID:69ed135eaedd8
SUMMARY:TGIF sailing 
DESCRIPTION:Let s start the weekend getting our pants wet hiking off the ra
 iling of the J70. With sun on our faces.*
 *That would be the absolute be
 st case scenario.&nbsp\;Wear comfy shoes\, warm clothes... you know the dr
 ill already.
 Cheers Dario
DTSTART:20250404T173000Z
DTEND:20250404T203000Z
DTSTAMP:20250401T152139Z
ORGANIZER;CN=ZISC Events:MAILTO:info@zisc.club
END:VEVENT
END:VCALENDAR