BEGIN:VCALENDAR
VERSION:2.0
PRODID:Events Booking
BEGIN:VEVENT
UID:69ecff7f49a89
SUMMARY:ZISC in Mallorca 2025
DESCRIPTION:ZISC cruising from Palma in Mallorca.
LOCATION:Palma\, Balearic Islands\, 07012\, Spain
DTSTART:20250927T140000Z
DTEND:20251004T090000Z
DTSTAMP:20250407T140139Z
ORGANIZER;CN=ZISC Events:MAILTO:info@zisc.club
GEO:39.568415;2.639454
X-APPLE-STRUCTURED-LOCATION;VALUE=URI;X-ADDRESS=Palma\, Balearic Islands\, 
 07012\, Spain;X-APPLE-RADIUS=72;X-TITLE=Palma\, Mallorca:39.568415;2.63945
 4
END:VEVENT
END:VCALENDAR