BEGIN:VCALENDAR
VERSION:2.0
PRODID:Events Booking
BEGIN:VEVENT
UID:69ed155701875
SUMMARY:Sailing in HORGEN (Lake Zürich)
DESCRIPTION:Sailing in Lake Zürich from Horgen.&nbsp\;
 Reasonable wind\,
  warm weather expected.&nbsp\;
 Boat: J70&nbsp\;
 Cost sharing CHF 25 / 
 per person.&nbsp\;
 Please bring your compact safety vest if you have one
  - standar ones are available on the boat.&nbsp\;
 &nbsp\;
 &nbsp\;
 &n
 bsp\;
 &nbsp\;
LOCATION:Horgen
DTSTART:20250426T110000Z
DTEND:20250426T140000Z
DTSTAMP:20250425T132901Z
ORGANIZER;CN=ZISC Events:MAILTO:info@zisc.club
GEO:47.254598;8.618533
X-APPLE-STRUCTURED-LOCATION;VALUE=URI;X-ADDRESS=Horgen;X-APPLE-RADIUS=72;X-
 TITLE=Horgen:47.254598;8.618533
END:VEVENT
END:VCALENDAR