BEGIN:VCALENDAR
VERSION:2.0
PRODID:Events Booking
BEGIN:VEVENT
UID:69ed14f0c7473
SUMMARY:Sailing in Zürich 
DESCRIPTION:Sailing around Lake Zürich. Route to be decided accoringly to 
 weather and wind.&nbsp\;
 Boat: J70&nbsp\;
 Safety first: please bring c
 ompact live vest if you have one. Standard ones are available on the boat.
 &nbsp\;
 Cost: CHF 35 pp&nbsp\;
 &nbsp\;
LOCATION:Bellerivestrasse\, Zurich\, 8008 Zurich\, Switzerland
DTSTART:20250503T140000Z
DTEND:20250503T180000Z
DTSTAMP:20250501T091344Z
ORGANIZER;CN=ZISC Events:MAILTO:info@zisc.club
GEO:47.346843;8.562809
X-APPLE-STRUCTURED-LOCATION;VALUE=URI;X-ADDRESS=Bellerivestrasse\, Zurich\,
  8008 Zurich\, Switzerland;X-APPLE-RADIUS=72;X-TITLE=Zürich Hafen Tiefenb
 runnen 01 022:47.346843;8.562809
END:VEVENT
END:VCALENDAR