BEGIN:VCALENDAR
VERSION:2.0
PRODID:Events Booking
BEGIN:VEVENT
UID:69ecf918d2aa8
SUMMARY:Swiss Sailing Challenge League Women Act I/2025 - Neuchâtel
DESCRIPTION:Swiss Sailing Challenge League Women Act I/2025 - Neuchâtel&nb
 sp\;
LOCATION:Route des Falaises\, Neuchâtel\, 2000 Neuchâtel\, Switzerland
DTSTART:20250529T090000Z
DTEND:20250530T170000Z
DTSTAMP:20250509T144718Z
ORGANIZER;CN=ZISC Events:MAILTO:info@zisc.club
GEO:46.996578;6.949836
X-APPLE-STRUCTURED-LOCATION;VALUE=URI;X-ADDRESS=Route des Falaises\, Neuch
 âtel\, 2000 Neuchâtel\, Switzerland;X-APPLE-RADIUS=72;X-TITLE=Neuchâtel
 :46.996578;6.949836
END:VEVENT
END:VCALENDAR