BEGIN:VCALENDAR
VERSION:2.0
PRODID:Events Booking
BEGIN:VEVENT
UID:69ed1ffa72c91
SUMMARY:RYA First Aid Course
DESCRIPTION:RYA First Aid Course
LOCATION:Switzerland
DTSTART:20250816T083000Z
DTEND:20250816T173000Z
DTSTAMP:20250510T071436Z
ORGANIZER;CN=ZISC Events:MAILTO:info@zisc.club
GEO:47.279096;8.597868
X-APPLE-STRUCTURED-LOCATION;VALUE=URI;X-ADDRESS=Switzerland;X-APPLE-RADIUS=
 72;X-TITLE=Lake Zurich:47.279096;8.597868
END:VEVENT
END:VCALENDAR