BEGIN:VCALENDAR
VERSION:2.0
PRODID:Events Booking
BEGIN:VEVENT
UID:69ed14f0bd142
SUMMARY:Sailing in Lake Lucerne
DESCRIPTION:Let's go sailing in Lake Lucerne !
LOCATION:Lucerne\, Switzerland
DTSTART:20250524T120000Z
DTEND:20250524T160000Z
DTSTAMP:20250521T102121Z
ORGANIZER;CN=ZISC Events:MAILTO:info@zisc.club
GEO:47.050545;8.305468
X-APPLE-STRUCTURED-LOCATION;VALUE=URI;X-ADDRESS=Lucerne\, Switzerland;X-APP
 LE-RADIUS=72;X-TITLE=Vierwaldstättersee Lucerne - Tribschenhorn:47.050545
 ;8.305468
END:VEVENT
END:VCALENDAR