BEGIN:VCALENDAR
VERSION:2.0
PRODID:Events Booking
BEGIN:VEVENT
UID:69ed01f4786fd
SUMMARY:Zurichsee sailing at Tiefenbrunnen
DESCRIPTION:Meeting at 16:15 at the location. Lake sailing 16:30-18:30\, ex
 tendable if the wind is nice. Please join if you have time to extend up to
  19:30.&nbsp\;
 Please inform if you are not able to swim. Safety rules w
 ill be explained before set sails.
 Wear no-slip shoes.
 Approximate cos
 t per person: less than 30 chf for 2 hours.&nbsp\;
 Please register only 
 if you are sure you can join to avoid me losing motivation to post these e
 vents\, and to give others the possibility to join!
 Looking forward to s
 ailing&nbsp\;
LOCATION:Strandbadstraße\, Reichenau\, 78479 Baden-Württemberg\, Germany
DTSTART:20250531T161500Z
DTEND:20250531T194500Z
DTSTAMP:20250529T155016Z
ORGANIZER;CN=ZISC Events:MAILTO:info@zisc.club
GEO:47.703232;9.057437
X-APPLE-STRUCTURED-LOCATION;VALUE=URI;X-ADDRESS=Strandbadstraße\, Reichena
 u\, 78479 Baden-Württemberg\, Germany;X-APPLE-RADIUS=72;X-TITLE=Tiefenbru
 nnen:47.703232;9.057437
END:VEVENT
END:VCALENDAR