BEGIN:VCALENDAR
VERSION:2.0
PRODID:Events Booking
BEGIN:VEVENT
UID:69ed150a0d029
SUMMARY:Sunset Sailing on Lake Zurich
DESCRIPTION:Spontaneous Sundowner Sail? ⛵?
 Hey Crew! 
 Anyone up for a
  last-minute sailing session today at 18:30 from Thalwil?
 &nbsp\;
 We
 ’ve got a lovely breeze and perfect conditions lined up for a chill sund
 owner sail aboard the Sunbeam 22.1.
 &nbsp\;
 Let’s catch the wind\, e
 njoy the golden hour\, and make the most of this beautiful evening on the 
 lake!
 &nbsp\;
 DM if you’re in – first come\, first sailed!
LOCATION:Seestrasse\, Thalwil\, 8800 Zurich\, Switzerland
DTSTART:20250617T183000Z
DTEND:20250617T203000Z
DTSTAMP:20250617T130842Z
ORGANIZER;CN=ZISC Events:MAILTO:info@zisc.club
GEO:47.29395;8.570116
X-APPLE-STRUCTURED-LOCATION;VALUE=URI;X-ADDRESS=Seestrasse\, Thalwil\, 8800
  Zurich\, Switzerland;X-APPLE-RADIUS=72;X-TITLE=Thalwil Marina:47.29395;8.
 570116
END:VEVENT
END:VCALENDAR