BEGIN:VCALENDAR
VERSION:2.0
PRODID:Events Booking
BEGIN:VEVENT
UID:69ed1343c6ace
SUMMARY:Sunset Sailing
DESCRIPTION:Let's go sailing till the sunset on Zurisee!&nbsp\;Easy and chi
 lled sailing also for unexperienced people.
LOCATION:Tiefen
DTSTART:20250623T183000Z
DTEND:20250623T210000Z
DTSTAMP:20250622T181140Z
ORGANIZER;CN=ZISC Events:MAILTO:info@zisc.club
GEO:47.347244;8.563071
X-APPLE-STRUCTURED-LOCATION;VALUE=URI;X-ADDRESS=Tiefen;X-APPLE-RADIUS=72;X-
 TITLE=Hafen Tiefenbrunnen :47.347244;8.563071
END:VEVENT
END:VCALENDAR