BEGIN:VCALENDAR
VERSION:2.0
PRODID:Events Booking
BEGIN:VEVENT
UID:69ed01c96dd85
SUMMARY:Sailing at Wollishofen 
DESCRIPTION:We meet at the boat at 18:45. It should be windy\, &nbsp\;be pr
 epared for a little race against Matteo
 Boat: Sailbox\, Zürich-Wollisho
 fen A | #56
 Cost is approximately 25 sfr per person for 2 hours
 Giovan
 ni
LOCATION:(47.3402066\, 8.5388178)
DTSTART:20250623T184500Z
DTEND:20250623T210000Z
DTSTAMP:20250622T223817Z
ORGANIZER;CN=ZISC Events:MAILTO:info@zisc.club
GEO:0;8.538818
X-APPLE-STRUCTURED-LOCATION;VALUE=URI;X-ADDRESS=(47.3402066\, 8.5388178);X-
 APPLE-RADIUS=72;X-TITLE=wollishofen:0;8.538818
END:VEVENT
END:VCALENDAR