BEGIN:VCALENDAR
VERSION:2.0
PRODID:Events Booking
BEGIN:VEVENT
UID:69ecfacf545c7
SUMMARY:ZLC - Distanzfahrt für Daheimgebliebene (Act. 4)
DESCRIPTION:ZISC invites you to:
 Regatta in Lake Zurich - Herrliberg&nbsp
 \;
 &nbsp\;
LOCATION:Herrliberg
DTSTART:20250712T100000Z
DTEND:20250712T180000Z
DTSTAMP:20250623T190901Z
ORGANIZER;CN=ZISC Events:MAILTO:info@zisc.club
END:VEVENT
END:VCALENDAR