BEGIN:VCALENDAR
VERSION:2.0
PRODID:Events Booking
BEGIN:VEVENT
UID:69ed159e77f31
SUMMARY:Sail to Ufenau Island (Lake Zurich)
DESCRIPTION:Sailing from Rapperrswil to Ufenau Island&nbsp\;
LOCATION:Hafen Untersee Rapperswil\, Seestrasse\, Rapperswil\, Rapperswil-J
 ona\, Wahlkreis See-Gaster\, St. Gallen\, 8640\, Switzerland
DTSTART:20250706T103000Z
DTEND:20250706T160000Z
DTSTAMP:20250625T193420Z
ORGANIZER;CN=ZISC Events:MAILTO:info@zisc.club
GEO:47.224855;8.813662
X-APPLE-STRUCTURED-LOCATION;VALUE=URI;X-ADDRESS=Hafen Untersee Rapperswil\,
  Seestrasse\, Rapperswil\, Rapperswil-Jona\, Wahlkreis See-Gaster\, St. Ga
 llen\, 8640\, Switzerland;X-APPLE-RADIUS=72;X-TITLE=Rapperswil Hafen Mole 
 :47.224855;8.813662
END:VEVENT
END:VCALENDAR