BEGIN:VCALENDAR
VERSION:2.0
PRODID:Events Booking
BEGIN:VEVENT
UID:69ecf8c415ee8
SUMMARY:Full-day Women's Regatta Training 
DESCRIPTION:Dedicated&nbsp\;1-day&nbsp\;Women’s Regatta's Training&nbsp\;
 Session on J/70.&nbsp\;
 This session is designed to build skills\, confi
 dence\, and teamwork on the water.
LOCATION:Mythenquai\, Zurich\, 8002 Zurich\, Switzerland
DTSTART:20250706T110000Z
DTSTAMP:20250628T092921Z
ORGANIZER;CN=ZISC Events:MAILTO:info@zisc.club
GEO:47.355824;8.536142
X-APPLE-STRUCTURED-LOCATION;VALUE=URI;X-ADDRESS=Mythenquai\, Zurich\, 8002 
 Zurich\, Switzerland;X-APPLE-RADIUS=72;X-TITLE=Zurich:47.355824;8.536142
END:VEVENT
END:VCALENDAR