BEGIN:VCALENDAR
VERSION:2.0
PRODID:Events Booking
BEGIN:VEVENT
UID:69ed15c2a4676
SUMMARY:Urnersee sailing from Brunnen
DESCRIPTION:Sunday 6th of July sailing on Vierwaldstättersee and Urnersee 
 from Brunnen. Urnersee typically has strong wind during afternoon thermal 
 breeze.
 SBB 13:05-14:05 Zurich HB - Brunnen (optional)
 Meeting: 14:15 
 latest at the location⛵️ 14:30-18:30 (extendable if we want)&nbsp\;&nb
 sp\;Drinks/dinner: after sailing in Brunnen by the lake (optional)
 Cost 
 for 4 hours: approximately 45 sfr depending how many we are.
 The locatio
 n might be quite windy\, come prepared :)
 Please register only if you ar
 e sure you can join.
 &nbsp\;
 &nbsp\;
LOCATION:Föhnhafen\, Ingenbohl\, 6440 Schwyz\, Switzerland
DTSTART:20250706T140000Z
DTEND:20250606T190000Z
DTSTAMP:20250630T210458Z
ORGANIZER;CN=ZISC Events:MAILTO:info@zisc.club
GEO:0;8.599819
X-APPLE-STRUCTURED-LOCATION;VALUE=URI;X-ADDRESS=Föhnhafen\, Ingenbohl\, 64
 40 Schwyz\, Switzerland;X-APPLE-RADIUS=72;X-TITLE=Brunnen Föhnhafen:0;8.5
 99819
END:VEVENT
END:VCALENDAR