BEGIN:VCALENDAR
VERSION:2.0
PRODID:Events Booking
BEGIN:VEVENT
UID:69ed134409dba
SUMMARY:Sunset Sailing 
DESCRIPTION:Let's go sailing till the sunset on Zurisee!&nbsp\;Meeting at 1
 8.20 at the Hafen Enge Kiosk.
LOCATION:47.36127392446061\, 8.535763301361763
DTSTART:20250812T182000Z
DTEND:20250812T203000Z
DTSTAMP:20250811T143309Z
ORGANIZER;CN=ZISC Events:MAILTO:info@zisc.club
GEO:47.361274;8.535763
X-APPLE-STRUCTURED-LOCATION;VALUE=URI;X-ADDRESS=47.36127392446061\, 8.53576
 3301361763;X-APPLE-RADIUS=72;X-TITLE=Hefen Enge Kiosk:47.361274;8.535763
END:VEVENT
END:VCALENDAR