BEGIN:VCALENDAR
VERSION:2.0
PRODID:Events Booking
BEGIN:VEVENT
UID:69ecf87a231c0
SUMMARY:ZISC Women’s Nautical Evening
DESCRIPTION:Join us for an evening of celebration and connection at the fir
 st ZISC Women’s Nautical Evening.&nbsp\;This special event brings togeth
 er the incredible women of our sailing club to reflect on the season\, sha
 re stories\, and enjoy delicious food in great company. Whether you're a s
 easoned sailor or new to the crew\, everyone is welcome!
 Location : Luig
 ia Restaurant - Talstrasse 61\, 8001 Zürich
 For further information\, p
 lease contact : Sylvia-Line (Silou)&nbsp\;
 &nbsp\;
LOCATION:Talstrasse 61\, 8001 Zürich
DTSTART:20251028T190000Z
DTEND:20251028T230000Z
DTSTAMP:20250825T144038Z
ORGANIZER;CN=ZISC Events:MAILTO:info@zisc.club
END:VEVENT
END:VCALENDAR