BEGIN:VCALENDAR
VERSION:2.0
PRODID:Events Booking
BEGIN:VEVENT
UID:69ed150a0ef44
SUMMARY:Sailing from Wollishofen
DESCRIPTION:We are two boats\, we might also do a little regata
LOCATION:(47.3402066\, 8.5388178)
DTSTART:20250829T172500Z
DTEND:20250829T200000Z
DTSTAMP:20250826T055759Z
ORGANIZER;CN=ZISC Events:MAILTO:info@zisc.club
GEO:0;8.538818
X-APPLE-STRUCTURED-LOCATION;VALUE=URI;X-ADDRESS=(47.3402066\, 8.5388178);X-
 APPLE-RADIUS=72;X-TITLE=wollishofen:0;8.538818
END:VEVENT
END:VCALENDAR